BEGIN:VCALENDAR
VERSION:2.0
METHOD:PUBLISH
BEGIN:VEVENT
DTSTART:20250525T220000Z
DTEND:20250527T215900Z
LOCATION:Online
TRANSP: OPAQUE
SEQUENCE:0
UID:
DTSTAMP:20260420T094653Z
SUMMARY:RECAP: Das war das BAR SYMPOSIUM COLOGNE 2025
DESCRIPTION:Bar Symposium Cologne 2025 – was für ein Highlight! 🍸🔥Zwei Tage voller Energy, Top-Vibes und geballter Hospitality-Power: Beim BSC wurde Köln wieder zum Place to be für alle, die die Barwelt von morgen mitgestalten wollen.SIP &amp; Pernod Ricard waren mittendrin – mit starken Talks, spannenden Workshops und echten Live-Erlebnissen: 👉 Tanja Urbanowicz (Senior Insights &amp; Intelligence Manager, Pernod Ricard Deutschland) über Aperitifs, No &amp; Low – und warum Spritz und alkoholfrei auf keiner Barkarte fehlen dürfen 👉 Heiko Antoniewicz &amp; Freddie Schefferski mit einem Deep Dive in die Welt der Fermentation – nachhaltige Ideen, spannende Aromen und das volle Potenzial lokaler Zutaten 🌱 👉 Benas Matkevicius (International Scout Boston Celtics) &amp; Arthur Martoyan (Brand Ambassador Mixing Spirits, Pernod Ricard Deutschland) mit Tipps für echten Teamspirit – an der Bar und darüber hinaus 👉 Lillet Liga der Außergewöhnlichen Frauen Bar Take Over &amp; das nationale Finale der Havana Club Cocktail Maestros – Geschmack &amp; Kreativität pur!Du hast’s verpasst? Kein Ding – wir haben mitgeschrieben. Alle Hightlights, sowie die Links zu den Aufzeichnungen der Talks von Tanja und Benas findest du hier im Artikel.
PRIORITY:1
CLASS:PUBLIC
BEGIN:VALARM
TRIGGER:-PT10080M
ACTION:DISPLAY
DESCRIPTION:Reminder
END:VALARM
END:VEVENT
END:VCALENDAR
