BEGIN:VCALENDAR
VERSION:2.0
METHOD:PUBLISH
BEGIN:VEVENT
DTSTART:20240825T080000Z
DTEND:20240825T200000Z
LOCATION:Online
TRANSP: OPAQUE
SEQUENCE:0
UID:
DTSTAMP:20260419T220251Z
SUMMARY:Whiskey Sour Day
DESCRIPTION:Cheers for Whiskey Sour Day. The whiskey sour, a classic cocktail that's been soothing souls and delighting palates for generations. Picture this: a harmonious blend of whiskey, fresh lemon juice, and just the right touch of sweetness, all shaken to perfection over ice and strained into a chilled glass. It's not just a drink; it's a symphony of flavors—tart, sweet, and beautifully balanced. Sip by sip, it tells a story of craftsmanship and timeless appeal, making it a beloved choice whether you're unwinding after a long day or toasting to new beginnings.
PRIORITY:1
CLASS:PUBLIC
BEGIN:VALARM
TRIGGER:-PT10080M
ACTION:DISPLAY
DESCRIPTION:Reminder
END:VALARM
END:VEVENT
END:VCALENDAR
