BEGIN:VCALENDAR
VERSION:2.0
METHOD:PUBLISH
BEGIN:VEVENT
DTSTART:20240713T170000Z
DTEND:20240713T235555Z
LOCATION:Online
TRANSP: OPAQUE
SEQUENCE:0
UID:
DTSTAMP:20260419T215653Z
SUMMARY:World Rum Day
DESCRIPTION:Raise your glasses and join the celebration, as we mark World Rum Day! This annual event is a tribute to one of the world's most beloved spirits, bringing together rum enthusiasts from all corners of the globe. From its storied origins in the Caribbean to its diverse and vibrant variations enjoyed worldwide, rum has a rich history and a unique place in our hearts. Whether you're a connoisseur or just discovering the magic of this versatile drink, World Rum Day is the perfect occasion to explore, taste, and toast to the spirit that has been warming souls and igniting adventures for centuries. Cheers to rum!
PRIORITY:1
CLASS:PUBLIC
BEGIN:VALARM
TRIGGER:-PT10080M
ACTION:DISPLAY
DESCRIPTION:Reminder
END:VALARM
END:VEVENT
END:VCALENDAR
