BEGIN:VCALENDAR
VERSION:2.0
METHOD:PUBLISH
BEGIN:VEVENT
DTSTART:20241021T060000Z
DTEND:20241021T200000Z
LOCATION:Online
TRANSP: OPAQUE
SEQUENCE:0
UID:
DTSTAMP:20260421T081352Z
SUMMARY:National Mezcal Day
DESCRIPTION:National Mezcal Day is a vibrant celebration that pays homage to Mexico’s beloved spirit, Mezcal.A beverage that holds a special place in Mexican culture, embodying centuries of tradition, craftsmanship, and heritage.The origins of this day can be traced back to Mexico’s mezcal-producing regions, in the remote villages of Oaxaca, Mexico, where mezcal has been crafted for generations. This tradition gives each creation its own unique, rich, sweet and smoky character.Recommend to try the Smoky Paloma cocktail recipe:60 ml of Del Maguey Vida Collection60 ml of Fresh Pink Grapefruit Juice30 ml of Lime Juice15 ml of Agave SyrupPinch of saltIce cubesGarnish with a half slice of orange, rim glass with salt and smashed pink peppercorns
PRIORITY:1
CLASS:PUBLIC
BEGIN:VALARM
TRIGGER:-PT10080M
ACTION:DISPLAY
DESCRIPTION:Reminder
END:VALARM
END:VEVENT
END:VCALENDAR
