BEGIN:VCALENDAR
VERSION:2.0
METHOD:PUBLISH
BEGIN:VEVENT
DTSTART:20241007T130000Z
DTEND:20241007T140000Z
LOCATION:199-206 High Holborn, WC1V 7BD, London, GB
TRANSP: OPAQUE
SEQUENCE:0
UID:
DTSTAMP:20260420T015613Z
SUMMARY:SIP Session: From Bar Back to Bar Owner
DESCRIPTION:Welcome to this SIP Session, in the Hoxton Holborn.Discover the secrets of industry legends as they share their rise from bar back to bar owner. Join JJ Goodman, founder of LCC, Matt Dakers, owner of 11th Social in Norwich, and Hebe Richardson, co-owner of the neighborhood cocktail bar Soda &amp; Friends, for an insightful panel discussion. They will recount their experiences, including mistakes they’ve made, roles where they've learnt the most, the challenges of finding the perfect venue, and how brands can play a part.Don’t miss this opportunity to learn from the best and gain invaluable insights into the journey of building a successful bar. Please join us at Hoxton hotel.
PRIORITY:1
CLASS:PUBLIC
BEGIN:VALARM
TRIGGER:-PT10080M
ACTION:DISPLAY
DESCRIPTION:Reminder
END:VALARM
END:VEVENT
END:VCALENDAR
