BEGIN:VCALENDAR
VERSION:2.0
METHOD:PUBLISH
BEGIN:VEVENT
DTSTART:20241007T110000Z
DTEND:20241007T120000Z
LOCATION:199-206 High Holborn, WC1V 7BD, London, GB
TRANSP: OPAQUE
SEQUENCE:0
UID:
DTSTAMP:20260420T020114Z
SUMMARY:SIP Session: Mindful Drinking
DESCRIPTION:Welcome to this SIP Session, in the Hoxton Holborn.Join Camille Vidal, founder of La Maison Wellness as she shares her celebration of Epic Nights and Early Mornings. Camille is a globally recognised bartender and drinks expert turned mindfulness, Yoga and Meditation teacher. A true pioneer Camille, also known as Mindfully Cami (@mindfullycami), is on a mission to inspire the world to bring mindfulness into the glass, showing that there's more to no and low drinks than post mix and sodas.
PRIORITY:1
CLASS:PUBLIC
BEGIN:VALARM
TRIGGER:-PT10080M
ACTION:DISPLAY
DESCRIPTION:Reminder
END:VALARM
END:VEVENT
END:VCALENDAR
