BEGIN:VCALENDAR
VERSION:2.0
METHOD:PUBLISH
BEGIN:VEVENT
DTSTART:20241007T120000Z
DTEND:20241007T130000Z
LOCATION:199-206 High Holborn, WC1V 7BD, London, GB
TRANSP: OPAQUE
SEQUENCE:0
UID:
DTSTAMP:20260420T031456Z
SUMMARY:SIP Session: Top 50 Aspirations
DESCRIPTION:Welcome to this SIP Session, in the Hoxton Holborn.Join industry leaders Coral Anderson (Swift) and Dan Garnell (Seed Library) as they share their secrets to bar success! Whether you’re aiming for global recognition or local acclaim, this panel offers invaluable insights from their journeys in opening and maintaining top-tier bars. They will share their invaluable experiences, learnings, and mantras from their journeys in opening top-tier bars and maintaining their stellar reputations.Don’t miss this opportunity to learn from the best and take your service and cocktails to the next level!
PRIORITY:1
CLASS:PUBLIC
BEGIN:VALARM
TRIGGER:-PT10080M
ACTION:DISPLAY
DESCRIPTION:Reminder
END:VALARM
END:VEVENT
END:VCALENDAR
