BEGIN:VCALENDAR
VERSION:2.0
METHOD:PUBLISH
BEGIN:VEVENT
DTSTART:20241007T143000Z
DTEND:20241007T153000Z
LOCATION:199-206 High Holborn, WC1V 7BD, London, GB
TRANSP: OPAQUE
SEQUENCE:0
UID:
DTSTAMP:20260420T031457Z
SUMMARY:SIP Session: AI in Hospitality
DESCRIPTION:Welcome to this SIP Session, in the Hoxton Holborn.Are robot cocktail bartenders about to take over the world? Probably not.Did we get AI to help us with some of the description of this seminar? Maybe.Will AI be used by more hospitality businesses in the future? Definitely.Join us for a seminar hosted by industry expert Peter van Jaarsveld as he explores the transformative role of AI in hospitality. Whether you're working on drinks development, guest acquisition or developing a new concept for a bar, Peter will share some uses for AI that could help you develop your thinking. Perfect for professionals eager to stay ahead in a rapidly evolving industry.Don’t miss this opportunity to learn from a leading voice in the field.
PRIORITY:1
CLASS:PUBLIC
BEGIN:VALARM
TRIGGER:-PT10080M
ACTION:DISPLAY
DESCRIPTION:Reminder
END:VALARM
END:VEVENT
END:VCALENDAR
