BEGIN:VCALENDAR
VERSION:2.0
METHOD:PUBLISH
BEGIN:VEVENT
DTSTART:20241008T110000Z
DTEND:20241008T120000Z
LOCATION:199-206 High Holborn, WC1V 7BD, London, GB
TRANSP: OPAQUE
SEQUENCE:0
UID:
DTSTAMP:20260420T015614Z
SUMMARY:SIP Session: Breathe Easy - Bartender Wellness
DESCRIPTION:Welcome to this SIP Session, in the Hoxton Holborn.Join Camille Vidal, the renowned mindfulness and wellness expert, for a 40-minute breathwork session designed exclusively for bartenders. This immersive experience will guide you through powerful breathing techniques to help manage stress, enhance focus, and boost overall well-being. Perfect for those in the fast-paced hospitality industry, Camille’s session offers a moment of calm and rejuvenation, equipping you with tools to maintain balance both behind the bar and in daily life. Sign up now to invest in your mental health and elevate your bartending craft with newfound clarity and energy.
PRIORITY:1
CLASS:PUBLIC
BEGIN:VALARM
TRIGGER:-PT10080M
ACTION:DISPLAY
DESCRIPTION:Reminder
END:VALARM
END:VEVENT
END:VCALENDAR
