BEGIN:VCALENDAR
VERSION:2.0
METHOD:PUBLISH
BEGIN:VEVENT
DTSTART:20241008T130000Z
DTEND:20241008T140000Z
LOCATION:199-206 High Holborn, WC1V 7BD, London, GB
TRANSP: OPAQUE
SEQUENCE:0
UID:
DTSTAMP:20260420T015459Z
SUMMARY:SIP Session: Inclusive Teams - Exceptional Experiences
DESCRIPTION:Welcome to this SIP Session, in the Hoxton Holborn.Join us for a panel talk focusing on diversity and inclusion in hospitality. Featuring Javan Heaney from Red Light Bar, Manchester, and Nicky Craig from Panda &amp; Sons, Edinburgh, this discussion will touch on the importance of establishing culture, building diverse teams to create more inclusive spaces and enhance guest experiences.Learn how these practices can benefit the venue you work in and what you can do to impact culture in any role.
PRIORITY:1
CLASS:PUBLIC
BEGIN:VALARM
TRIGGER:-PT10080M
ACTION:DISPLAY
DESCRIPTION:Reminder
END:VALARM
END:VEVENT
END:VCALENDAR
