BEGIN:VCALENDAR
VERSION:2.0
METHOD:PUBLISH
BEGIN:VEVENT
DTSTART:20241008T143000Z
DTEND:20241008T153000Z
LOCATION:199-206 High Holborn, WC1V 7BD, London, GB
TRANSP: OPAQUE
SEQUENCE:0
UID:
DTSTAMP:20260420T020536Z
SUMMARY:SIP Session: Do consumers care about mixology?
DESCRIPTION:Welcome to this SIP Session, in the Hoxton Holborn.There's no doubt that we're spoilt with the most creative and curious generation of bartenders the world has ever had, with more techniques being adopted and more equipment at their fingertips. But is that what consumers are looking for, or are they just looking for a really well made classic with a handful of ingredients?Join a panel featuring Nathan Larkin; founder of Speak in Code, Manchester, Tyler Zielinski; London-based cocktail and spirits writer, and bar and brand consultant and Joerg Meyer; founder of Le Lion Bar, Hamburg and creator of the Gin Basil Smash as they debate the conundrum that every bar has when writing a new menu and deciding on what drinks make the list.
PRIORITY:1
CLASS:PUBLIC
BEGIN:VALARM
TRIGGER:-PT10080M
ACTION:DISPLAY
DESCRIPTION:Reminder
END:VALARM
END:VEVENT
END:VCALENDAR
