BEGIN:VCALENDAR
VERSION:2.0
METHOD:PUBLISH
BEGIN:VEVENT
DTSTART:20241008T153000Z
DTEND:20241008T163000Z
LOCATION:199-206 High Holborn, WC1V 7BD, London, GB
TRANSP: OPAQUE
SEQUENCE:0
UID:
DTSTAMP:20260420T020114Z
SUMMARY:SIP Session: Agave on the Rise
DESCRIPTION:Welcome to this SIP Session, in the Hoxton Holborn.From the first tequila focused bar in the UK in 1982 to new wave agaverias in cities across the UK; the growth of agave spirits across the UK had been on a steady trajectory, now the blue touch paper has been lit on this category in the last 2-3 years. But what's driving the interest and what's next for the category? Join Steve Olson, co-founder of Del Maguey, Carlos Londono; co-owner of Café Pacifico and co owner of Hacha; Deano Moncrieffe as they discuss their different experiences and approaches to growing consumer interest in agave and what they think is next for the category.
PRIORITY:1
CLASS:PUBLIC
BEGIN:VALARM
TRIGGER:-PT10080M
ACTION:DISPLAY
DESCRIPTION:Reminder
END:VALARM
END:VEVENT
END:VCALENDAR
