BEGIN:VCALENDAR
VERSION:2.0
METHOD:PUBLISH
BEGIN:VEVENT
DTSTART:20241014T104500Z
DTEND:20241014T113000Z
LOCATION:Hammarskjöldplatz, 14055, Berlin, DE
TRANSP: OPAQUE
SEQUENCE:0
UID:
DTSTAMP:20260420T015459Z
SUMMARY:The next Sip: The Future of Flavours in a Changing World
DESCRIPTION:During this 45 min session, let’s discuss how climate change, new techs &amp; discoveries but also consumer trends will impact our food resources and therefore the ingredients we use to craft drinks redefining taste in cocktails and bar culture.
PRIORITY:1
CLASS:PUBLIC
BEGIN:VALARM
TRIGGER:-PT10080M
ACTION:DISPLAY
DESCRIPTION:Reminder
END:VALARM
END:VEVENT
END:VCALENDAR
