BEGIN:VCALENDAR
VERSION:2.0
METHOD:PUBLISH
BEGIN:VEVENT
DTSTART:20241014T121500Z
DTEND:20241014T133000Z
LOCATION:Hammarskjöldplatz, 14055, Berlin, DE
TRANSP: OPAQUE
SEQUENCE:0
UID:
DTSTAMP:20260420T020113Z
SUMMARY:Genealogy of a drink
DESCRIPTION:From smelling, to extracting to making it look adequate -The Art of Olfactive Mixology, Flavor Extraction, and Garnish Innovation. Meet Hadrian Moudoulaud &amp; Alexandra Mettetal, Remy Savage &amp; Maria Kontorravidis, Julie Ceder &amp; Giovanni Allario at SIP Studio.
PRIORITY:1
CLASS:PUBLIC
BEGIN:VALARM
TRIGGER:-PT10080M
ACTION:DISPLAY
DESCRIPTION:Reminder
END:VALARM
END:VEVENT
END:VCALENDAR
