BEGIN:VCALENDAR
VERSION:2.0
METHOD:PUBLISH
BEGIN:VEVENT
DTSTART:20241014T141500Z
DTEND:20241014T151500Z
LOCATION:Hammarskjöldplatz, 14055, Berlin, DE
TRANSP: OPAQUE
SEQUENCE:0
UID:
DTSTAMP:20260420T003932Z
SUMMARY:Raw Talent Lab - Crafting Circularity
DESCRIPTION:Experience firsthand how circularity meets creativity in the glass as Hampus and Matt demonstrate how to turn bar waste into exceptional drinks. Meet Matt Whiley and Hampus Thunholm at SIP Studio.
PRIORITY:1
CLASS:PUBLIC
BEGIN:VALARM
TRIGGER:-PT10080M
ACTION:DISPLAY
DESCRIPTION:Reminder
END:VALARM
END:VEVENT
END:VCALENDAR
