BEGIN:VCALENDAR
VERSION:2.0
METHOD:PUBLISH
BEGIN:VEVENT
DTSTART:20241014T133000Z
DTEND:20241014T141500Z
LOCATION:Hammarskjöldplatz, 14055, Berlin, DE
TRANSP: OPAQUE
SEQUENCE:0
UID:
DTSTAMP:20260420T003937Z
SUMMARY:Raising the Bar: leading the way in mindful drinking
DESCRIPTION:From mastering mindful alcohol consumption to empowering guests to say no, this session will equip you with the tools to navigate the bar space with responsibility and care. Discover how to create safe, inclusive environments where conviviality thrives beyond alcohol, and explore the rising trend of no-low options in responsible hosting. Meet Camille Vidal, Hyacinthe Lescoët and Francois Monti at SIP Studio.
PRIORITY:1
CLASS:PUBLIC
BEGIN:VALARM
TRIGGER:-PT10080M
ACTION:DISPLAY
DESCRIPTION:Reminder
END:VALARM
END:VEVENT
END:VCALENDAR
