BEGIN:VCALENDAR
VERSION:2.0
METHOD:PUBLISH
BEGIN:VEVENT
DTSTART:20241014T153000Z
DTEND:20241014T163000Z
LOCATION:Hammarskjöldplatz, 14055, Berlin, DE
TRANSP: OPAQUE
SEQUENCE:0
UID:
DTSTAMP:20260420T003349Z
SUMMARY:The Art of Aperitivo
DESCRIPTION:Master the power of Aperitivo culture in "The Art of Aperitivo" by Esmeralda Castrogiovanni from SIPS Barcelona. Dive deep into bold flavors, cutting-edge techniques, and the strategies behind crafting cocktails that command attention. Get ready to push boundaries and dominate the aperitivo scene. The event will take place at SIP Studio.
PRIORITY:1
CLASS:PUBLIC
BEGIN:VALARM
TRIGGER:-PT10080M
ACTION:DISPLAY
DESCRIPTION:Reminder
END:VALARM
END:VEVENT
END:VCALENDAR
