BEGIN:VCALENDAR
VERSION:2.0
METHOD:PUBLISH
BEGIN:VEVENT
DTSTART:20241008T120000Z
DTEND:20241008T140000Z
LOCATION:5 Carl Johans gate, 7010, Trondheim, NO
TRANSP: OPAQUE
SEQUENCE:0
UID:
DTSTAMP:20260420T005631Z
SUMMARY:Perrier-Jouët masterclass with Brand Ambassador Candice Roussia - TRONDHEIM
DESCRIPTION:Join us for this Perrier-Jouët masterclass in Restaurant To Rom og Kjøkken (Trondheim) on Tuesday 8th October, 2-4.00PM.Candice Roussia, Brand Ambassador traveling from Epernay (Champagne) for the occasion, will present 3 variants from the Perrier-Jouët range, along with exquisite food pairing from the restaurant. The 3 Champagne will be: Perrier-Jouët Grand Brut, Blanc de Blancs and the well-known Belle Epoque Brut.RSVP when you have a chance to secure your spot at this exclusive Perrier-Jouët seminar!
PRIORITY:1
CLASS:PUBLIC
BEGIN:VALARM
TRIGGER:-PT10080M
ACTION:DISPLAY
DESCRIPTION:Reminder
END:VALARM
END:VEVENT
END:VCALENDAR
