BEGIN:VCALENDAR
VERSION:2.0
METHOD:PUBLISH
BEGIN:VEVENT
DTSTART:20241015T100000Z
DTEND:20241015T110000Z
LOCATION:Hammarskjöldplatz, 14055, Berlin, DE
TRANSP: OPAQUE
SEQUENCE:0
UID:
DTSTAMP:20260420T021546Z
SUMMARY:Raw Talent Lab - Sipping sustainably & responsibly
DESCRIPTION:Discover how to bring sustainable practices and responsible service into every pour and sip, both reducing your environmental footprint and contribution to society without compromising on flavor. You will meet Kelsey Ramage and Hyacinthe Lescoët at SIP Studio.
PRIORITY:1
CLASS:PUBLIC
BEGIN:VALARM
TRIGGER:-PT10080M
ACTION:DISPLAY
DESCRIPTION:Reminder
END:VALARM
END:VEVENT
END:VCALENDAR
