BEGIN:VCALENDAR
VERSION:2.0
METHOD:PUBLISH
BEGIN:VEVENT
DTSTART:20241015T121500Z
DTEND:20241015T131500Z
LOCATION:Hammarskjöldplatz, 14055, Berlin, DE
TRANSP: OPAQUE
SEQUENCE:0
UID:
DTSTAMP:20260420T004619Z
SUMMARY:Die Zukunft der deutschen Barszene
DESCRIPTION:Wie Technologie, Nachhaltigkeit und kulturelle Trends die deutsche Barszene verändern. Treffen Roxanne Helm, Nathalie, Boris Groner bei SIP Studio.
PRIORITY:1
CLASS:PUBLIC
BEGIN:VALARM
TRIGGER:-PT10080M
ACTION:DISPLAY
DESCRIPTION:Reminder
END:VALARM
END:VEVENT
END:VCALENDAR
