BEGIN:VCALENDAR
VERSION:2.0
METHOD:PUBLISH
BEGIN:VEVENT
DTSTART:20241015T143000Z
DTEND:20241015T151500Z
LOCATION:Hammarskjöldplatz, 14055, Berlin, DE
TRANSP: OPAQUE
SEQUENCE:0
UID:
DTSTAMP:20260420T005122Z
SUMMARY:Future-Proofing Hospitality: trends and behaviors redefining our experiences
DESCRIPTION:There is a growing generation that few people have heard of yet. Within the next few years they will become the largest generation in the history of the world, and many of them will live to see the 22nd Century. They are growing up surrounded with new techs, Social Media and their consumption habits should shift towards sobriety as the norm.Get ready to welcome the Gen Alpha and reinvente Hospitality. Meet Daphné Hor, Alex Kratena and Chris Maffeo at SIP Studio.
PRIORITY:1
CLASS:PUBLIC
BEGIN:VALARM
TRIGGER:-PT10080M
ACTION:DISPLAY
DESCRIPTION:Reminder
END:VALARM
END:VEVENT
END:VCALENDAR
