BEGIN:VCALENDAR
VERSION:2.0
METHOD:PUBLISH
BEGIN:VEVENT
DTSTART:20241015T153000Z
DTEND:20241015T163000Z
LOCATION:Hammarskjöldplatz, 14055, Berlin, DE
TRANSP: OPAQUE
SEQUENCE:0
UID:
DTSTAMP:20260420T003253Z
SUMMARY:Re-imagined 90's on the rise
DESCRIPTION:The 90s changed the way we drink today. From the Espresso Martini to the Cosmopolitan, along with defining moments and cultural shifts, helped shaped the cocktail revolution. Curious? Join us for more about drinks on the rise and trends to come inspired by the 90s. With Dre Masso, Matt Whiley and Ben Reed at SIP Studio.
PRIORITY:1
CLASS:PUBLIC
BEGIN:VALARM
TRIGGER:-PT10080M
ACTION:DISPLAY
DESCRIPTION:Reminder
END:VALARM
END:VEVENT
END:VCALENDAR
