BEGIN:VCALENDAR
VERSION:2.0
METHOD:PUBLISH
BEGIN:VEVENT
DTSTART:20241014T113000Z
DTEND:20241014T121500Z
LOCATION:Hammarskjöldplatz, 14055, Berlin, DE
TRANSP: OPAQUE
SEQUENCE:0
UID:
DTSTAMP:20260420T004619Z
SUMMARY:Altos presents the New Tahona Society Platform
DESCRIPTION:Meet Dre Masso Altos co-creator, Simon Kistenfeger Altos Global Brand Ambassador and Carlos Ramirez Altos Advocacy Director to understand all about the new tahona society platform and competition, all the benefits of being a member and how to participate to win 50k USD! Meet at SIP Studio.
PRIORITY:1
CLASS:PUBLIC
BEGIN:VALARM
TRIGGER:-PT10080M
ACTION:DISPLAY
DESCRIPTION:Reminder
END:VALARM
END:VEVENT
END:VCALENDAR
