BEGIN:VCALENDAR
VERSION:2.0
METHOD:PUBLISH
BEGIN:VEVENT
DTSTART:20241016T114500Z
DTEND:20241016T124500Z
LOCATION:Hammarskjöldplatz, 14055, Berlin, DE
TRANSP: OPAQUE
SEQUENCE:0
UID:
DTSTAMP:20260420T003932Z
SUMMARY:Raw Talent Lab: Sustainable practices
DESCRIPTION:Getting behind the scenes to see how the 3 sustainable bartenders designed their drinks menu &amp; cocktails to maximize sustainable impact by hosting 30min - 1hr sessions to learn hands-on techniques/approaches. Meet them at SIP Studio.
PRIORITY:1
CLASS:PUBLIC
BEGIN:VALARM
TRIGGER:-PT10080M
ACTION:DISPLAY
DESCRIPTION:Reminder
END:VALARM
END:VEVENT
END:VCALENDAR
