BEGIN:VCALENDAR
VERSION:2.0
METHOD:PUBLISH
BEGIN:VEVENT
DTSTART:20241016T130000Z
DTEND:20241016T140000Z
LOCATION:Hammarskjöldplatz, 14055, Berlin, DE
TRANSP: OPAQUE
SEQUENCE:0
UID:
DTSTAMP:20260420T005122Z
SUMMARY:Highball love: How to make my drink sexy with foodpairing.
DESCRIPTION:Discover the fabulous world of Japanese highballs with the Deacon Whisky, mixing flavours in the purest way while pairing with local food. Meet the chef at SIP Studio.Bartender: Nathalie Tran (Ory Bar)Chef: Kristof Mulack
PRIORITY:1
CLASS:PUBLIC
BEGIN:VALARM
TRIGGER:-PT10080M
ACTION:DISPLAY
DESCRIPTION:Reminder
END:VALARM
END:VEVENT
END:VCALENDAR
