BEGIN:VCALENDAR
VERSION:2.0
METHOD:PUBLISH
BEGIN:VEVENT
DTSTART:20241015T093000Z
DTEND:20241015T101500Z
LOCATION:Hammarskjöldplatz, 14055, Berlin, DE
TRANSP: OPAQUE
SEQUENCE:0
UID:
DTSTAMP:20260420T003937Z
SUMMARY:Elevating your Bar - Mastering Hospitality
DESCRIPTION:Join Sean Finter, the bar coach behind some of the world's best bars and restaurants, for an enlightening session where he will walk you through his transformative framework for hospitality at the Jameson Brand Stage.
PRIORITY:1
CLASS:PUBLIC
BEGIN:VALARM
TRIGGER:-PT10080M
ACTION:DISPLAY
DESCRIPTION:Reminder
END:VALARM
END:VEVENT
END:VCALENDAR
