BEGIN:VCALENDAR
VERSION:2.0
METHOD:PUBLISH
BEGIN:VEVENT
DTSTART:20241015T131500Z
DTEND:20241015T140000Z
LOCATION:Hammarskjöldplatz, 14055, Berlin, DE
TRANSP: OPAQUE
SEQUENCE:0
UID:
DTSTAMP:20260420T003937Z
SUMMARY:Strategies For A Greener Drinks Industry
DESCRIPTION:A time-and-place based approach to minimising waste in the drinks industry. Join us at the Absolut Brand Stage. Matt Whiley (RE, Sydney), Kelsey Ramage (Trash Collective), LukeWhearty (Byrdi, Melbourne), Alex Kratena (Tayēr+ Elementary, London)
PRIORITY:1
CLASS:PUBLIC
BEGIN:VALARM
TRIGGER:-PT10080M
ACTION:DISPLAY
DESCRIPTION:Reminder
END:VALARM
END:VEVENT
END:VCALENDAR
