BEGIN:VCALENDAR
VERSION:2.0
METHOD:PUBLISH
BEGIN:VEVENT
DTSTART:20241016T103000Z
DTEND:20241016T113000Z
LOCATION:Hammarskjöldplatz, 14055, Berlin, DE
TRANSP: OPAQUE
SEQUENCE:0
UID:
DTSTAMP:20260419T232049Z
SUMMARY:Mastering Mindset and Motivation in the demanding hospitality industry 
DESCRIPTION:In this 45min roundtable, we'll have an open discussion on the challenges often experienced, while working in the bar industry, such as stress, poor diet, burnouts, lack of movements.We will then provide a set of solutions, easy to implement.
PRIORITY:1
CLASS:PUBLIC
BEGIN:VALARM
TRIGGER:-PT10080M
ACTION:DISPLAY
DESCRIPTION:Reminder
END:VALARM
END:VEVENT
END:VCALENDAR
