BEGIN:VCALENDAR
VERSION:2.0
METHOD:PUBLISH
BEGIN:VEVENT
DTSTART:20241014T180000Z
DTEND:20241014T230000Z
LOCATION:Brandenburgische Straße 21, 10707, Berlin, DE
TRANSP: OPAQUE
SEQUENCE:0
UID:
DTSTAMP:20260419T232049Z
SUMMARY:SIP Me Baby One More Time Afterparty
DESCRIPTION:Bring on the night and let the party begin: SIP Me Baby One More TimeJoin SIP, Monkey 47, Jameson, Havana Club, Absolut, La Hechicera, Altos &amp; friends at Provocateur onOctober 14th for a night, like in the good old times.Put on your platform shoes &amp; your best Green Day shirt and join us for a party you won't forget.LINE UPFrom 8 PM to 10.30 PM:Dre Masso &amp; Ben Reed (Legends)Remy Savage &amp; Hadrien Moudoulaud (Abstract Bistrot, Lyon)Hampus Thunholm &amp; Björn Kjellberg (Röda Huset, Stockholm)From 10.30 PM to 1.00 AM:Matt Whiley, Luke Whearty, Alex Kratena (Like minded Creatures)Kelsey Ramage (Trash Collective)Dirk Hany (Bar Am Wasser, Switzerland)Juan David Zapata(Mamba Negra, Colombia)No &amp; Low BarCamille Vidal (La Maison Wellness)Hyacinthe Lescoët (The Cambidge Public House)NOTE: The capacity of Provocateur is 200 PAX, we will do our best to accomodate you but when the space is full it's full and you might have to wait in line for a moment.Please keep in mind, it's first come first in and one out, one in.We apoligize for any trouble it might cause and hope you'll have a great great time.
PRIORITY:1
CLASS:PUBLIC
BEGIN:VALARM
TRIGGER:-PT10080M
ACTION:DISPLAY
DESCRIPTION:Reminder
END:VALARM
END:VEVENT
END:VCALENDAR
