BEGIN:VCALENDAR
VERSION:2.0
METHOD:PUBLISH
BEGIN:VEVENT
DTSTART:20241016T104500Z
DTEND:20241016T113000Z
LOCATION:Hammarskjöldplatz, 14055, Berlin, DE
TRANSP: OPAQUE
SEQUENCE:0
UID:
DTSTAMP:20260419T232049Z
SUMMARY:Future Scenarios for 2050 - Exploring the implications of climate change on conviviality
DESCRIPTION:In the face of climate change, what will the convivialité of the future look like? Pernod Ricard presents its 2050 Future Scenarios decoding the way climate change will impact potential pathways for how we live, a consume and socialise in the year 2050. Meet us at the Brand Stage
PRIORITY:1
CLASS:PUBLIC
BEGIN:VALARM
TRIGGER:-PT10080M
ACTION:DISPLAY
DESCRIPTION:Reminder
END:VALARM
END:VEVENT
END:VCALENDAR
