BEGIN:VCALENDAR
VERSION:2.0
METHOD:PUBLISH
BEGIN:VEVENT
DTSTART:20240930T183000Z
DTEND:20241001T000000Z
LOCATION:57 Rue des Gravilliers, 75003, Paris, FR
TRANSP: OPAQUE
SEQUENCE:0
UID:
DTSTAMP:20260419T232108Z
SUMMARY:SIP Afterparty at Spootnik Bar
DESCRIPTION:Rejoignez nous pour l'Afterparty SIP du Whisky Live Paris, une expérience inédite à ne pas manquer !Le dernier jour de l'événement, le Bar Spootnik (Paris 3e) vous accueillera. Vous pourrez y retrouver nos marques de la Cocktail Street retravaillées autour d'une carte inédite, dans un décor futuriste avec un son de qualité! Soyez parmi les premiers à arriver pour profiter de cette soirée.Join us for the Whisky Live Paris SIP Afterparty, an experience not to be missed!On the last day of the event, Bar Spootnik (Paris 3e) will welcome you. Here, you'll find our Cocktail Street brands reworked around an original menu, in a futuristic setting with top-quality sound! Be among the first to arrive to enjoy the evening.
PRIORITY:1
CLASS:PUBLIC
BEGIN:VALARM
TRIGGER:-PT10080M
ACTION:DISPLAY
DESCRIPTION:Reminder
END:VALARM
END:VEVENT
END:VCALENDAR
