BEGIN:VCALENDAR
VERSION:2.0
METHOD:PUBLISH
BEGIN:VEVENT
DTSTART:20241008T180000Z
DTEND:20241007T220000Z
LOCATION:380 Kingsland Road, E8 4AA, London, GB
TRANSP: OPAQUE
SEQUENCE:0
UID:
DTSTAMP:20260419T232048Z
SUMMARY:Lab 22 at Hacha, Dalston
DESCRIPTION:Renowned for their cocktail innovation Lab 22, Cardiff head to Hacha Agaveria for an evening of incredible Agave drinks in partnership with Del Maguey and Altos Tequila.
PRIORITY:1
CLASS:PUBLIC
BEGIN:VALARM
TRIGGER:-PT10080M
ACTION:DISPLAY
DESCRIPTION:Reminder
END:VALARM
END:VEVENT
END:VCALENDAR
