BEGIN:VCALENDAR
VERSION:2.0
METHOD:PUBLISH
BEGIN:VEVENT
DTSTART:20241003T200000Z
DTEND:20241003T230000Z
LOCATION:28 Martlett Court, WC2E 7AH, London, GB
TRANSP: OPAQUE
SEQUENCE:0
UID:
DTSTAMP:20260419T232048Z
SUMMARY:Agave a Go Go at Side Hustle
DESCRIPTION:Agave a Go Go is a world tour of four of the world's most renowned agave bars - an unbelievable opportunity to experience four of the most highly awarded Tequila bars all under one roof in collab with Del Maguey Mezcal and Altos Tequila.The host is Side Hustle at NoMad London - a mainstay of all things agave here in London. They will be handing over the bar to three stellar teams from across the world - Limantour from Mexico City, Candelaria from Paris and Leyenda from Brooklyn. The takeover is made possible and in partnership with Altos Tequila so expect some unusual twists on some Mexican classics. Kicking off from 9pm the party is open to all and will feature each bar team for one hour behind the stick. Sure to be a brilliant night.
PRIORITY:1
CLASS:PUBLIC
BEGIN:VALARM
TRIGGER:-PT10080M
ACTION:DISPLAY
DESCRIPTION:Reminder
END:VALARM
END:VEVENT
END:VCALENDAR
