BEGIN:VCALENDAR
VERSION:2.0
METHOD:PUBLISH
BEGIN:VEVENT
DTSTART:20241008T170000Z
DTEND:20241008T210000Z
LOCATION:8 Hoxton Square, N1 6NU, London, GB
TRANSP: OPAQUE
SEQUENCE:0
UID:
DTSTAMP:20260419T232109Z
SUMMARY:Le Lion at Happiness Forgets
DESCRIPTION:Get down to Happiness Forgets to see the founder of Le Lion Bar de Paris, Hamburg behind the bar serving up traditional and modern classics with Beefeater Gin. Joerg Meyer’s bar has been a staple in Hamburg for 2 decades and he was the creator of the gin basil smash back in 2008 which is rightfully proclaimed as a modern classic.
PRIORITY:1
CLASS:PUBLIC
BEGIN:VALARM
TRIGGER:-PT10080M
ACTION:DISPLAY
DESCRIPTION:Reminder
END:VALARM
END:VEVENT
END:VCALENDAR
