BEGIN:VCALENDAR
VERSION:2.0
METHOD:PUBLISH
BEGIN:VEVENT
DTSTART:20241007T180000Z
DTEND:20241006T220000Z
LOCATION:6-7 Great Newport Street, WC2H 7JA, London, GB
TRANSP: OPAQUE
SEQUENCE:0
UID:
DTSTAMP:20260419T232050Z
SUMMARY:JJ & Matt D at Covent Garden Social 
DESCRIPTION:We’re putting JJ Goodman and Matt Dakers back behind the bar at Covent Garden Social Club for a night of Havana Club Daiquiris and LCC Legacy drinks to celebrate their journeys through the industry.Pitch yourself against JJ, Matt and a host of LCC bartenders in a speed Daiquiri comp for a chance to win merch and ultimate bragging rights.
PRIORITY:1
CLASS:PUBLIC
BEGIN:VALARM
TRIGGER:-PT10080M
ACTION:DISPLAY
DESCRIPTION:Reminder
END:VALARM
END:VEVENT
END:VCALENDAR
