BEGIN:VCALENDAR
VERSION:2.0
METHOD:PUBLISH
BEGIN:VEVENT
DTSTART:20241009T183000Z
DTEND:20241009T223000Z
LOCATION:Basil Street, SW3 1AJ, London, GB
TRANSP: OPAQUE
SEQUENCE:0
UID:
DTSTAMP:20260419T232108Z
SUMMARY:Kwãnt at Clap
DESCRIPTION:Join us for a night of sophisticated drinks awaits as Kwant, Mayfair host the talented bartenders from renowned Japanese fine dining restaurant, Clap, London in partnership with Ki No BI gin and Giffard. An unforgettable evening of unparalleled flavors and elegance awaits.
PRIORITY:1
CLASS:PUBLIC
BEGIN:VALARM
TRIGGER:-PT10080M
ACTION:DISPLAY
DESCRIPTION:Reminder
END:VALARM
END:VEVENT
END:VCALENDAR
