BEGIN:VCALENDAR
VERSION:2.0
METHOD:PUBLISH
BEGIN:VEVENT
DTSTART:20241009T170000Z
DTEND:20241009T210000Z
LOCATION:129 City Road, EC1V 1JB, London, GB
TRANSP: OPAQUE
SEQUENCE:0
UID:
DTSTAMP:20260419T232049Z
SUMMARY:La Punta at NightJar Shoreditch
DESCRIPTION:La Punta is one of Italy’s best-stocked tequila and mezcal bars, La Punta Expendio de Agave is a little taste of Mexico in Rome from the team behind Jerry Thomas Speakeasy and Freni e Frizioni. And now Altos Tequila are bringing the team to Nightjar, Shoreditch for a night ofdelicious drinks.
PRIORITY:1
CLASS:PUBLIC
BEGIN:VALARM
TRIGGER:-PT10080M
ACTION:DISPLAY
DESCRIPTION:Reminder
END:VALARM
END:VEVENT
END:VCALENDAR
