BEGIN:VCALENDAR
VERSION:2.0
METHOD:PUBLISH
BEGIN:VEVENT
DTSTART:20241015T181500Z
DTEND:20241015T230000Z
LOCATION:Brandenburgische Straße 21, 10707, Berlin, DE
TRANSP: OPAQUE
SEQUENCE:0
UID:
DTSTAMP:20260419T232048Z
SUMMARY:BUMBU Afterparty
DESCRIPTION:Step into the Colorful World of Bumbu &amp; The Deacon!Get ready for an unforgettable night as we, together with the legendary Tjoget, whisk you away into a vibrant cocktail wonderland. Expect bold, exotic drinks that will dazzle your senses—courtesy of the masters behind Tjoget and Santa’s Whiskers.Sound by:Sorkn &amp; DJ CronaHost: Andreas BergmanThis is not just another night out. It’s a cocktail journey like no other.See you there!
PRIORITY:1
CLASS:PUBLIC
BEGIN:VALARM
TRIGGER:-PT10080M
ACTION:DISPLAY
DESCRIPTION:Reminder
END:VALARM
END:VEVENT
END:VCALENDAR
