BEGIN:VCALENDAR
VERSION:2.0
METHOD:PUBLISH
BEGIN:VEVENT
DTSTART:20241015T180000Z
DTEND:20241015T220000Z
LOCATION:Stresemannstraße 95, 10963, Berlin, DE
TRANSP: OPAQUE
SEQUENCE:0
UID:
DTSTAMP:20260419T232048Z
SUMMARY:Italicus Afterparty 
DESCRIPTION:Bar Takeover at the grand re-opening of The Gibson Bar Berlin by Marian Beke with Esmeralda Castrogiovanni - Global Winner of The Art of ITALICUS 2024 from SIPS Barcelona, voted the number #1 in the 2023 World 50 Best Bars ranking.
PRIORITY:1
CLASS:PUBLIC
BEGIN:VALARM
TRIGGER:-PT10080M
ACTION:DISPLAY
DESCRIPTION:Reminder
END:VALARM
END:VEVENT
END:VCALENDAR
