BEGIN:VCALENDAR
VERSION:2.0
METHOD:PUBLISH
BEGIN:VEVENT
DTSTART:20241014T160000Z
DTEND:20241014T200000Z
LOCATION:106bis Rue Saint-Lazare, 75008, Paris, FR
TRANSP: OPAQUE
SEQUENCE:0
UID:
DTSTAMP:20260419T232048Z
SUMMARY:Drinks & Community powered by Sip #1
DESCRIPTION:C'est le grand retour!RDV pour cette première édition Drinks&amp;Community powered by SIP !Pour l'occasion, les bartenders Drinks&amp;Co vous proposent de nouvelles créations uniques autour des nouveautés du groupe Pernod Ricard, présentées au Paris Whisky Live.Entrée libre sur inscription, le 14 octobre de 18h00 à 22h00 àDrinks&amp;Co, 106bis Rue Saint Lazare, 75008 Paris.Sur cette édition, découvrez le gin Malfy Originale, le rhum Bumbu XO, la tequila Codigo Blanco Rosa, et enfin le whisky japonais Fuji Single blendedAttention places limitées !En cas d'indisponibilité, pensez à nous informer de votre absence, afin de proposer la place à une autre personne.Pour toute question, contactez @drinksco_parissur Instagram.L'abus d'alcool est dangereux pour la santé, à consommer avec modération.
PRIORITY:1
CLASS:PUBLIC
BEGIN:VALARM
TRIGGER:-PT10080M
ACTION:DISPLAY
DESCRIPTION:Reminder
END:VALARM
END:VEVENT
END:VCALENDAR
