BEGIN:VCALENDAR
VERSION:2.0
METHOD:PUBLISH
BEGIN:VEVENT
DTSTART:20241022T210000Z
DTEND:20241023T033000Z
LOCATION:2 Plaza de Celenque, 28013, Madrid, ES
TRANSP: OPAQUE
SEQUENCE:0
UID:
DTSTAMP:20260419T220252Z
SUMMARY:Altos & Friends The Afterparty
DESCRIPTION:Join us for Altos &amp; Friends at the Madrid Edition during Madrid Cocktail Week and The World’s 50 Best Bars! Immerse yourself in a night of exceptional cocktails, vibrant energy, and unforgettable moments as we celebrate with Altos Tequila and a lineup of world-class bartenders. Expect unique drinks, great company, and the best of Madrid’s cocktail scene.Bartenders from Casanis, Niebla, Crepes, and Naked will be at two different bars in Edition from 23:00 to 5:30.23:00 - 03:00: A special room along with a DJ set23:00 - 00:30: DJ JUNGLEO00:30 - 03:30: A surprise DJ03:30 - 05:30: DJ MARAHUACODon’t miss out on this exclusive experience!
PRIORITY:1
CLASS:PUBLIC
BEGIN:VALARM
TRIGGER:-PT10080M
ACTION:DISPLAY
DESCRIPTION:Reminder
END:VALARM
END:VEVENT
END:VCALENDAR
