BEGIN:VCALENDAR
VERSION:2.0
METHOD:PUBLISH
BEGIN:VEVENT
DTSTART:20241021T100000Z
DTEND:20241021T113000Z
LOCATION:2 Plaza de Celenque, 28013, Madrid, ES
TRANSP: OPAQUE
SEQUENCE:0
UID:
DTSTAMP:20260419T215654Z
SUMMARY:The Hospitality in 2030-2035, how the future will look like?
DESCRIPTION:What are the biggest challenges in the next 5 years for the bar Industry and How can we overcome or be prepared for these challenges?On the other hand, what are the biggest opportunities for the industry? How do we be ready to maximise them? We will try to answer these with leaders of the industry and create a Global Manifesto from it. This session will be curated by the experts from CGA/NielsenIQ.Join us at EDITION Hotel MADRID – Ballroom
PRIORITY:1
CLASS:PUBLIC
BEGIN:VALARM
TRIGGER:-PT10080M
ACTION:DISPLAY
DESCRIPTION:Reminder
END:VALARM
END:VEVENT
END:VCALENDAR
