BEGIN:VCALENDAR
VERSION:2.0
METHOD:PUBLISH
BEGIN:VEVENT
DTSTART:20241021T133000Z
DTEND:20241021T142000Z
LOCATION:2 Plaza de Celenque, 28013, Madrid, ES
TRANSP: OPAQUE
SEQUENCE:0
UID:
DTSTAMP:20260419T215149Z
SUMMARY:Awards: Welcome to the Hunger Games
DESCRIPTION:When we talk about things that have shaped the industry we often bring up Speakeasies or Molecular Mixology or Barrel-Aged Cocktails BUT overlook the importance of Awards. Few things have influenced bartender &amp; brand behaviour for the last 15 years as much as award lists or special plates. Like everything in the industry awards have changed over the years but they’re still a discussion full of conspiracy, mystery &amp; cynicism. Join Danil Nevsky as he asks the hard &amp; relevant questions from the bartending masses to the people part of the Mount Olympus of awards.Join us at EDITION Hotel MADRID – Ballroom
PRIORITY:1
CLASS:PUBLIC
BEGIN:VALARM
TRIGGER:-PT10080M
ACTION:DISPLAY
DESCRIPTION:Reminder
END:VALARM
END:VEVENT
END:VCALENDAR
