BEGIN:VCALENDAR
VERSION:2.0
METHOD:PUBLISH
BEGIN:VEVENT
DTSTART:20241021T090000Z
DTEND:20241021T095000Z
LOCATION:2 Plaza de Celenque, 28013, Madrid, ES
TRANSP: OPAQUE
SEQUENCE:0
UID:
DTSTAMP:20260419T220251Z
SUMMARY:El largo plazo
DESCRIPTION:No hace tanto, uno trabajaba en bares a la espera de arrancar su carrera de verdad. El crecimiento increíble de la coctelería ha cambiado por completo el panorama: se han abierto muchas posibilidades para profesionales formados. Pero este cambio de paradigma impone una visión a largo plazo en un ámbito que invita a veces al exceso, a no cuidar su salud o en el cual las condiciones económicas o de trabajo para jóvenes profesionales no siempre son muy buenas. En esta mesa redonda abordaremos temas como el bienestar tanto económico como personal y el desarrollo de una carrera duradera con profesionales que llevan años, cuando no décadas, en la cumbre de nuestra industria.
PRIORITY:1
CLASS:PUBLIC
BEGIN:VALARM
TRIGGER:-PT10080M
ACTION:DISPLAY
DESCRIPTION:Reminder
END:VALARM
END:VEVENT
END:VCALENDAR
