BEGIN:VCALENDAR
VERSION:2.0
METHOD:PUBLISH
BEGIN:VEVENT
DTSTART:20250413T220000Z
DTEND:20250415T220000Z
LOCATION:Online
TRANSP: OPAQUE
SEQUENCE:0
UID:
DTSTAMP:20260420T082057Z
SUMMARY:SIP Supernova Grand Prix Asia Grand Finale 2025
DESCRIPTION:Get ready for the SIP Supernova Grand Prix, happening from April 14-16, 2025, in Shanghai! This exciting event brings together the rising star bartenders from key markets including China mainland, Hong Kong, Macau, Taiwan, Indonesia, the Philippines, Singapore, South Korea, Thailand, Vietnam, and the UAE. Stay tuned for an action-packed agenda with cocktail challenges and guest shifts from industry leaders.Who will be the next champion?Follow @SIP_Global on Instagram to stay up-to-date on all the latest news, live streams and event posts.
PRIORITY:1
CLASS:PUBLIC
BEGIN:VALARM
TRIGGER:-PT10080M
ACTION:DISPLAY
DESCRIPTION:Reminder
END:VALARM
END:VEVENT
END:VCALENDAR
