BEGIN:VCALENDAR
VERSION:2.0
METHOD:PUBLISH
BEGIN:VEVENT
DTSTART:20250613T220000Z
DTEND:20250613T220000Z
LOCATION:Online
TRANSP: OPAQUE
SEQUENCE:0
UID:
DTSTAMP:20260421T080644Z
SUMMARY:World Gin Day
DESCRIPTION:World Gin Day is celebrated on the second Saturday of June. This day honours gin's rich history, dating back to the Middle Ages when it was first distilled by European monks and alchemists! Celebrate the day with this citrusy, tart and aromatic Beefeater Gin Bramble reSIPe:50 ml Beefeater London Dry Gin25 ml Lemon Juice20 ml Pomegranate Juice15 ml Crème de Mure10 ml Sugar SyrupBlackberriesPour all liquids into a shaker with ice.Shake well until chilled.Add crushed ice to your glass.Strain the drink into the glass.Garnish with blackberries and enjoy!
PRIORITY:1
CLASS:PUBLIC
BEGIN:VALARM
TRIGGER:-PT10080M
ACTION:DISPLAY
DESCRIPTION:Reminder
END:VALARM
END:VEVENT
END:VCALENDAR
