BEGIN:VCALENDAR
VERSION:2.0
METHOD:PUBLISH
BEGIN:VEVENT
DTSTART:20250701T170000Z
DTEND:20250706T200000Z
LOCATION:Waltz, 28 Scrutton St, EC2A 4RP, London, GB
TRANSP: OPAQUE
SEQUENCE:0
UID:
DTSTAMP:20260420T083317Z
SUMMARY:BCB London Bar Takeovers: Ki No Bi x Waltz Bar 
DESCRIPTION:Experience the Spirit of Japan at Waltz Bar – BCB London 2025Join us for two guest shifts at Waltz Bar as Kyoto's renowned Ki No Bi Japanese Gin brings together some of Japan’s most celebrated bartending talent. In honour of BCB London, these bar takeovers are your chance to witness precision and artistry straight from Japan.Event Details📍 Waltz Bar, LondonMonday 1st July | 7–11PM🍸 Masahiko Endo from Tokyo’s award-winning Mizunara BarSaturday 6th July | 6–10PM🍸 Michito Kaneko from the iconic Lamp Bar in NaraExpect elevated cocktails, refined techniques, and a unique celebration of Japanese gin craftsmanship with Ki No Bi.This is one for the bartenders, gin lovers, and anyone who appreciates a top-tier serve. It's the perfect way to celebrate your hard work throughout BCB London.
PRIORITY:1
CLASS:PUBLIC
BEGIN:VALARM
TRIGGER:-PT10080M
ACTION:DISPLAY
DESCRIPTION:Reminder
END:VALARM
END:VEVENT
END:VCALENDAR
