BEGIN:VCALENDAR
VERSION:2.0
METHOD:PUBLISH
BEGIN:VEVENT
DTSTART:20260102T000000Z
DTEND:20260320T190000Z
LOCATION:Online
TRANSP: OPAQUE
SEQUENCE:0
UID:
DTSTAMP:20260421T203458Z
SUMMARY:SIP Supernova Cocktail Competition - Vietnam
DESCRIPTION:Supernova
PRIORITY:1
CLASS:PUBLIC
BEGIN:VALARM
TRIGGER:-PT10080M
ACTION:DISPLAY
DESCRIPTION:Reminder
END:VALARM
END:VEVENT
END:VCALENDAR
