BEGIN:VCALENDAR
VERSION:2.0
METHOD:PUBLISH
BEGIN:VEVENT
DTSTART:20260330T130000Z
DTEND:20260330T140000Z
LOCATION:Online
TRANSP: OPAQUE
SEQUENCE:0
UID:
DTSTAMP:20260422T062659Z
SUMMARY:Ask Me Anything – WhatsApp Live Q&A with Juliette Larrouy
DESCRIPTION:Juliette answers the SIP community’s most pressing questions – about creativity, flavour, product development, and building a modern bar.15:00 CET | 14:00 UK | 10:00 ET | 07:00 PTSubmit your questions to our WhatsApp 'SIP Community by Pernod Ricard': HERE
PRIORITY:1
CLASS:PUBLIC
BEGIN:VALARM
TRIGGER:-PT10080M
ACTION:DISPLAY
DESCRIPTION:Reminder
END:VALARM
END:VEVENT
END:VCALENDAR
