BEGIN:VCALENDAR
VERSION:2.0
METHOD:PUBLISH
BEGIN:VEVENT
DTSTART:20260504T100000Z
DTEND:20260504T110000Z
LOCATION:Online
TRANSP: OPAQUE
SEQUENCE:0
UID:
DTSTAMP:20260421T090405Z
SUMMARY:Ask Me Anything – WhatsApp Live Q&A with Jean Trinh
DESCRIPTION:A live, informal WhatsApp Q&amp;A where Jean answers your real questions about leadership, operations, team building, culture, and the day-to-day realities of running a successful bar.Jean brings candid insight from years of leading teams, navigating challenges, building systems, and managing growth.
PRIORITY:1
CLASS:PUBLIC
BEGIN:VALARM
TRIGGER:-PT10080M
ACTION:DISPLAY
DESCRIPTION:Reminder
END:VALARM
END:VEVENT
END:VCALENDAR
